BEGIN:VCALENDAR
VERSION:2.0
PRODID:-//Catholic Cemeteries Omaha - ECPv6.15.17.1//NONSGML v1.0//EN
CALSCALE:GREGORIAN
METHOD:PUBLISH
X-WR-CALNAME:Catholic Cemeteries Omaha
X-ORIGINAL-URL:https://catholiccem.com
X-WR-CALDESC:Events for Catholic Cemeteries Omaha
REFRESH-INTERVAL;VALUE=DURATION:PT1H
X-Robots-Tag:noindex
X-PUBLISHED-TTL:PT1H
BEGIN:VTIMEZONE
TZID:UTC
BEGIN:STANDARD
TZOFFSETFROM:+0000
TZOFFSETTO:+0000
TZNAME:UTC
DTSTART:20200101T000000
END:STANDARD
END:VTIMEZONE
BEGIN:VEVENT
DTSTART;TZID=UTC:20210310T180000
DTEND;TZID=UTC:20210310T190000
DTSTAMP:20260420T040244
CREATED:20210129T220610Z
LAST-MODIFIED:20210129T220610Z
UID:2652-1615399200-1615402800@catholiccem.com
SUMMARY:Stations of the Cross
DESCRIPTION:Please join us each Wednesday in Lent (except Ash Wednesday) in the Holy Angels Mausoleum at Resurrection Cemetery. \nWe will pray for those who have gone before us\, and for Christ to heal us as we carry and place our grief at the foot of His cross.
URL:https://catholiccem.com/our-event/stations-of-the-cross-10/
LOCATION:Holy Angels Mausoleum – Resurrection Cemetery\, 7800 W Center Rd\, Omaha\, NE\, 68124\, United States
ORGANIZER;CN="Deacon Jim Tardy":MAILTO:jtardy@catholiccem.com
END:VEVENT
END:VCALENDAR