BEGIN:VCALENDAR
VERSION:2.0
PRODID:-//Catholic Cemeteries Omaha - ECPv6.15.17.1//NONSGML v1.0//EN
CALSCALE:GREGORIAN
METHOD:PUBLISH
X-ORIGINAL-URL:https://catholiccem.com
X-WR-CALDESC:Events for Catholic Cemeteries Omaha
REFRESH-INTERVAL;VALUE=DURATION:PT1H
X-Robots-Tag:noindex
X-PUBLISHED-TTL:PT1H
BEGIN:VTIMEZONE
TZID:America/Chicago
BEGIN:DAYLIGHT
TZOFFSETFROM:-0600
TZOFFSETTO:-0500
TZNAME:CDT
DTSTART:20240310T080000
END:DAYLIGHT
BEGIN:STANDARD
TZOFFSETFROM:-0500
TZOFFSETTO:-0600
TZNAME:CST
DTSTART:20241103T070000
END:STANDARD
BEGIN:DAYLIGHT
TZOFFSETFROM:-0600
TZOFFSETTO:-0500
TZNAME:CDT
DTSTART:20250309T080000
END:DAYLIGHT
BEGIN:STANDARD
TZOFFSETFROM:-0500
TZOFFSETTO:-0600
TZNAME:CST
DTSTART:20251102T070000
END:STANDARD
BEGIN:DAYLIGHT
TZOFFSETFROM:-0600
TZOFFSETTO:-0500
TZNAME:CDT
DTSTART:20260308T080000
END:DAYLIGHT
BEGIN:STANDARD
TZOFFSETFROM:-0500
TZOFFSETTO:-0600
TZNAME:CST
DTSTART:20261101T070000
END:STANDARD
BEGIN:DAYLIGHT
TZOFFSETFROM:-0600
TZOFFSETTO:-0500
TZNAME:CDT
DTSTART:20270314T080000
END:DAYLIGHT
BEGIN:STANDARD
TZOFFSETFROM:-0500
TZOFFSETTO:-0600
TZNAME:CST
DTSTART:20271107T070000
END:STANDARD
END:VTIMEZONE
BEGIN:VEVENT
DTSTART;TZID=America/Chicago:20250107T170000
DTEND;TZID=America/Chicago:20250107T183000
DTSTAMP:20260425T135845
CREATED:20241204T163938Z
LAST-MODIFIED:20241204T163938Z
UID:3647-1736269200-1736274600@catholiccem.com
SUMMARY:Monthly Memorial Mass
DESCRIPTION:Join us as we remember those buried in December 2024 and January 2024. We pray a rosary starting at 5 pm\, following by reading the names of those being memorialized. Mass will begin at 5:30 pm.
URL:https://catholiccem.com/our-event/monthly-memorial-mass-78/
LOCATION:Holy Angels Mausoleum – Resurrection Cemetery\, 7800 W Center Rd\, Omaha\, NE\, 68124\, United States
END:VEVENT
BEGIN:VEVENT
DTSTART;TZID=America/Chicago:20250204T170000
DTEND;TZID=America/Chicago:20250204T183000
DTSTAMP:20260425T135845
CREATED:20241204T164121Z
LAST-MODIFIED:20241204T164121Z
UID:3648-1738688400-1738693800@catholiccem.com
SUMMARY:Monthly Memorial Mass
DESCRIPTION:Join us as we remember those buried in January 2025 and February 2024. We pray a rosary starting at 5 pm\, following by reading the names of those being memorialized. Mass will begin at 5:30 pm.
URL:https://catholiccem.com/our-event/monthly-memorial-mass-79/
LOCATION:Holy Angels Mausoleum – Resurrection Cemetery\, 7800 W Center Rd\, Omaha\, NE\, 68124\, United States
END:VEVENT
BEGIN:VEVENT
DTSTART;TZID=America/Chicago:20250304T170000
DTEND;TZID=America/Chicago:20250304T183000
DTSTAMP:20260425T135845
CREATED:20241204T164253Z
LAST-MODIFIED:20241204T164253Z
UID:3649-1741107600-1741113000@catholiccem.com
SUMMARY:Monthly Memorial Mass
DESCRIPTION:Join us as we remember those buried in February 2025 and March 2024. We pray a rosary starting at 5 pm\, following by reading the names of those being memorialized. Mass will begin at 5:30 pm.
URL:https://catholiccem.com/our-event/monthly-memorial-mass-80/
LOCATION:Holy Angels Mausoleum – Resurrection Cemetery\, 7800 W Center Rd\, Omaha\, NE\, 68124\, United States
END:VEVENT
BEGIN:VEVENT
DTSTART;TZID=America/Chicago:20250312T180000
DTEND;TZID=America/Chicago:20250312T190000
DTSTAMP:20260425T135845
CREATED:20250310T181810Z
LAST-MODIFIED:20250310T181810Z
UID:3709-1741802400-1741806000@catholiccem.com
SUMMARY:Stations of the Cross
DESCRIPTION:We invite you to come pray the Stations of the Cross with us this Wednesday at 6 pm in our Holy Angels Mausoleum at Resurrection Cemetery. We will pray for those who have gone before us\, and for Christ to heal us as we carry and place our grief at the foot of His cross. Praying the Stations allows us to become more intimately connected to Jesus’ Passion and Death\, and is a great way for us to prepare for the coming of Easter Sunday.
URL:https://catholiccem.com/our-event/stations-of-the-cross-30/
LOCATION:Holy Angels Mausoleum – Resurrection Cemetery\, 7800 W Center Rd\, Omaha\, NE\, 68124\, United States
ORGANIZER;CN="Deacon Jim Tardy":MAILTO:jtardy@catholiccem.com
END:VEVENT
BEGIN:VEVENT
DTSTART;TZID=America/Chicago:20250319T180000
DTEND;TZID=America/Chicago:20250319T190000
DTSTAMP:20260425T135845
CREATED:20250310T181928Z
LAST-MODIFIED:20250310T181928Z
UID:3710-1742407200-1742410800@catholiccem.com
SUMMARY:Stations of the Cross
DESCRIPTION:We invite you to come pray the Stations of the Cross with us this Wednesday at 6 pm in our Holy Angels Mausoleum at Resurrection Cemetery. We will pray for those who have gone before us\, and for Christ to heal us as we carry and place our grief at the foot of His cross. Praying the Stations allows us to become more intimately connected to Jesus’ Passion and Death\, and is a great way for us to prepare for the coming of Easter Sunday.
URL:https://catholiccem.com/our-event/stations-of-the-cross-31/
LOCATION:Holy Angels Mausoleum – Resurrection Cemetery\, 7800 W Center Rd\, Omaha\, NE\, 68124\, United States
ORGANIZER;CN="Deacon Jim Tardy":MAILTO:jtardy@catholiccem.com
END:VEVENT
BEGIN:VEVENT
DTSTART;TZID=America/Chicago:20250326T180000
DTEND;TZID=America/Chicago:20250326T190000
DTSTAMP:20260425T135845
CREATED:20250310T182025Z
LAST-MODIFIED:20250310T182025Z
UID:3711-1743012000-1743015600@catholiccem.com
SUMMARY:Stations of the Cross
DESCRIPTION:We invite you to come pray the Stations of the Cross with us this Wednesday at 6 pm in our Holy Angels Mausoleum at Resurrection Cemetery. We will pray for those who have gone before us\, and for Christ to heal us as we carry and place our grief at the foot of His cross. Praying the Stations allows us to become more intimately connected to Jesus’ Passion and Death\, and is a great way for us to prepare for the coming of Easter Sunday.
URL:https://catholiccem.com/our-event/stations-of-the-cross-32/
LOCATION:Holy Angels Mausoleum – Resurrection Cemetery\, 7800 W Center Rd\, Omaha\, NE\, 68124\, United States
ORGANIZER;CN="Deacon Jim Tardy":MAILTO:jtardy@catholiccem.com
END:VEVENT
BEGIN:VEVENT
DTSTART;TZID=America/Chicago:20250401T170000
DTEND;TZID=America/Chicago:20250401T183000
DTSTAMP:20260425T135845
CREATED:20241204T170121Z
LAST-MODIFIED:20241204T170121Z
UID:3650-1743526800-1743532200@catholiccem.com
SUMMARY:Monthly Memorial Mass
DESCRIPTION:Join us as we remember those buried in March 2025 and April 2024. We pray a rosary starting at 5 pm\, following by reading the names of those being memorialized. Mass will begin at 5:30 pm.
URL:https://catholiccem.com/our-event/monthly-memorial-mass-81/
LOCATION:Holy Angels Mausoleum – Resurrection Cemetery\, 7800 W Center Rd\, Omaha\, NE\, 68124\, United States
END:VEVENT
BEGIN:VEVENT
DTSTART;TZID=America/Chicago:20250402T180000
DTEND;TZID=America/Chicago:20250402T190000
DTSTAMP:20260425T135845
CREATED:20250310T182118Z
LAST-MODIFIED:20250310T182118Z
UID:3712-1743616800-1743620400@catholiccem.com
SUMMARY:Stations of the Cross
DESCRIPTION:We invite you to come pray the Stations of the Cross with us this Wednesday at 6 pm in our Holy Angels Mausoleum at Resurrection Cemetery. We will pray for those who have gone before us\, and for Christ to heal us as we carry and place our grief at the foot of His cross. Praying the Stations allows us to become more intimately connected to Jesus’ Passion and Death\, and is a great way for us to prepare for the coming of Easter Sunday.
URL:https://catholiccem.com/our-event/stations-of-the-cross-33/
LOCATION:Holy Angels Mausoleum – Resurrection Cemetery\, 7800 W Center Rd\, Omaha\, NE\, 68124\, United States
ORGANIZER;CN="Deacon Jim Tardy":MAILTO:jtardy@catholiccem.com
END:VEVENT
BEGIN:VEVENT
DTSTART;TZID=America/Chicago:20250409T180000
DTEND;TZID=America/Chicago:20250409T190000
DTSTAMP:20260425T135845
CREATED:20250310T182206Z
LAST-MODIFIED:20250310T182206Z
UID:3713-1744221600-1744225200@catholiccem.com
SUMMARY:Stations of the Cross
DESCRIPTION:We invite you to come pray the Stations of the Cross with us this Wednesday at 6 pm in our Holy Angels Mausoleum at Resurrection Cemetery. We will pray for those who have gone before us\, and for Christ to heal us as we carry and place our grief at the foot of His cross. Praying the Stations allows us to become more intimately connected to Jesus’ Passion and Death\, and is a great way for us to prepare for the coming of Easter Sunday.
URL:https://catholiccem.com/our-event/stations-of-the-cross-34/
LOCATION:Holy Angels Mausoleum – Resurrection Cemetery\, 7800 W Center Rd\, Omaha\, NE\, 68124\, United States
ORGANIZER;CN="Deacon Jim Tardy":MAILTO:jtardy@catholiccem.com
END:VEVENT
BEGIN:VEVENT
DTSTART;VALUE=DATE:20250418
DTEND;VALUE=DATE:20250419
DTSTAMP:20260425T135845
CREATED:20250310T182436Z
LAST-MODIFIED:20250310T182436Z
UID:3715-1744934400-1745020799@catholiccem.com
SUMMARY:Good Friday-Office Closed
DESCRIPTION:Our office will be closed on this very important day in our church\, Good Friday.
URL:https://catholiccem.com/our-event/good-friday-office-closed-2/
LOCATION:Catholic Cemeteries Office\, 7710 West Center Road\, Omaha\, NE\, 68124\, United States
END:VEVENT
BEGIN:VEVENT
DTSTART;TZID=America/Chicago:20250418T150000
DTEND;TZID=America/Chicago:20250418T160000
DTSTAMP:20260425T135845
CREATED:20250310T182554Z
LAST-MODIFIED:20250310T182554Z
UID:3716-1744988400-1744992000@catholiccem.com
SUMMARY:Good Friday-Stations of the Cross
DESCRIPTION:We invite you to join us as we walk the Stations of the Cross on Good Friday\, at 3 pm at Calvary Cemetery. Join us as we walk in the path of Jesus as He goes to His Crucifixion. We will pray for those who have gone before us\, and for Christ to heal us as we carry and place our grief at the foot of His cross. \nWe will meet at Station 1 to start our journey with the Lord on His “Via Dollorosa” (translated Way of Sorrows).
URL:https://catholiccem.com/our-event/good-friday-stations-of-the-cross-4/
LOCATION:Calvary Cemetery\, 7710 West Center Road\, Omaha\, NE\, 68124\, United States
ORGANIZER;CN="Deacon Jim Tardy":MAILTO:jtardy@catholiccem.com
END:VEVENT
BEGIN:VEVENT
DTSTART;TZID=America/Chicago:20250506T170000
DTEND;TZID=America/Chicago:20250506T183000
DTSTAMP:20260425T135845
CREATED:20241204T170257Z
LAST-MODIFIED:20241204T170257Z
UID:3651-1746550800-1746556200@catholiccem.com
SUMMARY:Monthly Memorial Mass
DESCRIPTION:Join us as we remember those buried in April 2025 and May 2024. We pray a rosary starting at 5 pm\, following by reading the names of those being memorialized. Mass will begin at 5:30 pm.
URL:https://catholiccem.com/our-event/monthly-memorial-mass-82/
LOCATION:Holy Angels Mausoleum – Resurrection Cemetery\, 7800 W Center Rd\, Omaha\, NE\, 68124\, United States
END:VEVENT
BEGIN:VEVENT
DTSTART;TZID=America/Chicago:20250523T090000
DTEND;TZID=America/Chicago:20250523T160000
DTSTAMP:20260425T135845
CREATED:20250310T183440Z
LAST-MODIFIED:20250310T183440Z
UID:3717-1747990800-1748016000@catholiccem.com
SUMMARY:Memorial Day Weekend- Tent Hours
DESCRIPTION:We will have tents open in Calvary Cemetery to help families find locations of loved ones and sell flowers (fresh & artificial).
URL:https://catholiccem.com/our-event/memorial-day-weekend-tent-hours-11/
LOCATION:Calvary Cemetery\, 7710 West Center Road\, Omaha\, NE\, 68124\, United States
END:VEVENT
BEGIN:VEVENT
DTSTART;TZID=America/Chicago:20250524T100000
DTEND;TZID=America/Chicago:20250524T150000
DTSTAMP:20260425T135845
CREATED:20250310T183601Z
LAST-MODIFIED:20250310T183601Z
UID:3718-1748080800-1748098800@catholiccem.com
SUMMARY:Memorial Day Weekend- Tent Hours
DESCRIPTION:We will have tents open in Calvary Cemetery to help families find locations of loved ones and sell flowers (fresh & artificial).
URL:https://catholiccem.com/our-event/memorial-day-weekend-tent-hours-12/
LOCATION:Calvary Cemetery\, 7710 West Center Road\, Omaha\, NE\, 68124\, United States
END:VEVENT
BEGIN:VEVENT
DTSTART;TZID=America/Chicago:20250525T100000
DTEND;TZID=America/Chicago:20250525T150000
DTSTAMP:20260425T135845
CREATED:20250310T183715Z
LAST-MODIFIED:20250310T183715Z
UID:3719-1748167200-1748185200@catholiccem.com
SUMMARY:Memorial Day Weekend- Tent Hours
DESCRIPTION:We will have tents open in Calvary Cemetery to help families find locations of loved ones and sell flowers (fresh & artificial).
URL:https://catholiccem.com/our-event/memorial-day-weekend-tent-hours-13/
LOCATION:Calvary Cemetery\, 7710 West Center Road\, Omaha\, NE\, 68124\, United States
END:VEVENT
BEGIN:VEVENT
DTSTART;TZID=America/Chicago:20250526T090000
DTEND;TZID=America/Chicago:20250526T133000
DTSTAMP:20260425T135845
CREATED:20250310T191527Z
LAST-MODIFIED:20250310T191527Z
UID:3720-1748250000-1748266200@catholiccem.com
SUMMARY:Memorial Day Weekend- Tent Hours
DESCRIPTION:We will have tents open in Calvary Cemetery to help families find locations of loved ones and sell flowers (fresh & artificial).
URL:https://catholiccem.com/our-event/memorial-day-weekend-tent-hours-14/
LOCATION:Calvary Cemetery\, 7710 West Center Road\, Omaha\, NE\, 68124\, United States
END:VEVENT
BEGIN:VEVENT
DTSTART;TZID=America/Chicago:20250526T100000
DTEND;TZID=America/Chicago:20250526T110000
DTSTAMP:20260425T135845
CREATED:20241204T170422Z
LAST-MODIFIED:20241204T170422Z
UID:3652-1748253600-1748257200@catholiccem.com
SUMMARY:Memorial Day Masses
DESCRIPTION:Masses are held at all five of our cemeteries at 10 AM. \nOur Cemeteries are Calvary\, Resurrection\, Holy Sepulchre\, Saint Mary\, Saint Mary Magdalene.
URL:https://catholiccem.com/our-event/memorial-day-masses-5/
LOCATION:NE
END:VEVENT
BEGIN:VEVENT
DTSTART;TZID=America/Chicago:20250603T170000
DTEND;TZID=America/Chicago:20250603T183000
DTSTAMP:20260425T135845
CREATED:20241204T170550Z
LAST-MODIFIED:20241204T170550Z
UID:3653-1748970000-1748975400@catholiccem.com
SUMMARY:Monthly Memorial Mass
DESCRIPTION:Join us as we remember those buried in May 2025 and June 2024. We pray a rosary starting at 5 pm\, following by reading the names of those being memorialized. Mass will begin at 5:30 pm.
URL:https://catholiccem.com/our-event/monthly-memorial-mass-83/
LOCATION:Holy Angels Mausoleum – Resurrection Cemetery\, 7800 W Center Rd\, Omaha\, NE\, 68124\, United States
END:VEVENT
BEGIN:VEVENT
DTSTART;TZID=America/Chicago:20250701T170000
DTEND;TZID=America/Chicago:20250701T183000
DTSTAMP:20260425T135845
CREATED:20241204T170658Z
LAST-MODIFIED:20241204T170658Z
UID:3654-1751389200-1751394600@catholiccem.com
SUMMARY:Monthly Memorial Mass
DESCRIPTION:Join us as we remember those buried in June 2025 and July 2024. We pray a rosary starting at 5 pm\, following by reading the names of those being memorialized. Mass will begin at 5:30 pm.
URL:https://catholiccem.com/our-event/monthly-memorial-mass-84/
LOCATION:Holy Angels Mausoleum – Resurrection Cemetery\, 7800 W Center Rd\, Omaha\, NE\, 68124\, United States
END:VEVENT
BEGIN:VEVENT
DTSTART;VALUE=DATE:20250704
DTEND;VALUE=DATE:20250705
DTSTAMP:20260425T135845
CREATED:20250310T191651Z
LAST-MODIFIED:20250310T191651Z
UID:3721-1751587200-1751673599@catholiccem.com
SUMMARY:Holiday Office Closed
DESCRIPTION:Our office will be closed to celebrate the Fourth of July.
URL:https://catholiccem.com/our-event/holiday-office-closed-2/
LOCATION:Catholic Cemeteries Office\, 7710 West Center Road\, Omaha\, NE\, 68124\, United States
END:VEVENT
BEGIN:VEVENT
DTSTART;TZID=America/Chicago:20250805T170000
DTEND;TZID=America/Chicago:20250805T183000
DTSTAMP:20260425T135845
CREATED:20241204T170808Z
LAST-MODIFIED:20241204T170808Z
UID:3655-1754413200-1754418600@catholiccem.com
SUMMARY:Monthly Memorial Mass
DESCRIPTION:Join us as we remember those buried in July 2025 and August 2024. We pray a rosary starting at 5 pm\, following by reading the names of those being memorialized. Mass will begin at 5:30 pm.
URL:https://catholiccem.com/our-event/monthly-memorial-mass-85/
LOCATION:Holy Angels Mausoleum – Resurrection Cemetery\, 7800 W Center Rd\, Omaha\, NE\, 68124\, United States
END:VEVENT
BEGIN:VEVENT
DTSTART;VALUE=DATE:20250901
DTEND;VALUE=DATE:20250902
DTSTAMP:20260425T135845
CREATED:20250310T191820Z
LAST-MODIFIED:20250310T191820Z
UID:3722-1756684800-1756771199@catholiccem.com
SUMMARY:Labor Day- Office Closed
DESCRIPTION:Our office is closed for the Labor Day Holiday
URL:https://catholiccem.com/our-event/labor-day-office-closed-4/
LOCATION:Catholic Cemeteries Office\, 7710 West Center Road\, Omaha\, NE\, 68124\, United States
END:VEVENT
BEGIN:VEVENT
DTSTART;TZID=America/Chicago:20250902T170000
DTEND;TZID=America/Chicago:20250902T183000
DTSTAMP:20260425T135845
CREATED:20241204T170941Z
LAST-MODIFIED:20241204T170941Z
UID:3656-1756832400-1756837800@catholiccem.com
SUMMARY:Monthly Memorial Mass
DESCRIPTION:Join us as we remember those buried in August 2025 and September 2024. We pray a rosary starting at 5 pm\, following by reading the names of those being memorialized. Mass will begin at 5:30 pm.
URL:https://catholiccem.com/our-event/monthly-memorial-mass-86/
LOCATION:Holy Angels Mausoleum – Resurrection Cemetery\, 7800 W Center Rd\, Omaha\, NE\, 68124\, United States
END:VEVENT
BEGIN:VEVENT
DTSTART;TZID=America/Chicago:20251007T170000
DTEND;TZID=America/Chicago:20251007T183000
DTSTAMP:20260425T135845
CREATED:20241204T171039Z
LAST-MODIFIED:20241204T171039Z
UID:3657-1759856400-1759861800@catholiccem.com
SUMMARY:Monthly Memorial Mass
DESCRIPTION:Join us as we remember those buried in September 2025 and October 2024. We pray a rosary starting at 5 pm\, following by reading the names of those being memorialized. Mass will begin at 5:30 pm.
URL:https://catholiccem.com/our-event/monthly-memorial-mass-87/
LOCATION:Holy Angels Mausoleum – Resurrection Cemetery\, 7800 W Center Rd\, Omaha\, NE\, 68124\, United States
END:VEVENT
BEGIN:VEVENT
DTSTART;TZID=America/Chicago:20251104T170000
DTEND;TZID=America/Chicago:20251104T183000
DTSTAMP:20260425T135845
CREATED:20241204T171140Z
LAST-MODIFIED:20241204T171140Z
UID:3658-1762275600-1762281000@catholiccem.com
SUMMARY:Monthly Memorial Mass
DESCRIPTION:Join us as we remember those buried in October 2025 and November 2024. We pray a rosary starting at 5 pm\, following by reading the names of those being memorialized. Mass will begin at 5:30 pm.
URL:https://catholiccem.com/our-event/monthly-memorial-mass-88/
LOCATION:Holy Angels Mausoleum – Resurrection Cemetery\, 7800 W Center Rd\, Omaha\, NE\, 68124\, United States
END:VEVENT
BEGIN:VEVENT
DTSTART;TZID=America/Chicago:20251202T170000
DTEND;TZID=America/Chicago:20251202T183000
DTSTAMP:20260425T135845
CREATED:20241204T171240Z
LAST-MODIFIED:20241204T171240Z
UID:3659-1764694800-1764700200@catholiccem.com
SUMMARY:Monthly Memorial Mass
DESCRIPTION:Join us as we remember those buried in November 2025 and December 2024. We pray a rosary starting at 5 pm\, following by reading the names of those being memorialized. Mass will begin at 5:30 pm.
URL:https://catholiccem.com/our-event/monthly-memorial-mass-89/
LOCATION:Holy Angels Mausoleum – Resurrection Cemetery\, 7800 W Center Rd\, Omaha\, NE\, 68124\, United States
END:VEVENT
BEGIN:VEVENT
DTSTART;TZID=America/Chicago:20260106T170000
DTEND;TZID=America/Chicago:20260106T183000
DTSTAMP:20260425T135845
CREATED:20260217T141301Z
LAST-MODIFIED:20260217T141301Z
UID:3974-1767718800-1767724200@catholiccem.com
SUMMARY:Monthly Memorial Mass
DESCRIPTION:Join us as we remember those buried in December 2025 and January 2025. We pray a rosary starting at 5 pm\, following by reading the names of those being memorialized. Mass will begin at 5:30 pm.
URL:https://catholiccem.com/our-event/monthly-memorial-mass-90/
LOCATION:Holy Angels Mausoleum – Resurrection Cemetery\, 7800 W Center Rd\, Omaha\, NE\, 68124\, United States
END:VEVENT
BEGIN:VEVENT
DTSTART;TZID=America/Chicago:20260203T170000
DTEND;TZID=America/Chicago:20260203T183000
DTSTAMP:20260425T135845
CREATED:20260217T141406Z
LAST-MODIFIED:20260217T141406Z
UID:3975-1770138000-1770143400@catholiccem.com
SUMMARY:Monthly Memorial Mass
DESCRIPTION:Join us as we remember those buried in January 2026 and February 2025. We pray a rosary starting at 5 pm\, following by reading the names of those being memorialized. Mass will begin at 5:30 pm.
URL:https://catholiccem.com/our-event/monthly-memorial-mass-91/
LOCATION:Holy Angels Mausoleum – Resurrection Cemetery\, 7800 W Center Rd\, Omaha\, NE\, 68124\, United States
END:VEVENT
BEGIN:VEVENT
DTSTART;TZID=America/Chicago:20260225T180000
DTEND;TZID=America/Chicago:20260225T190000
DTSTAMP:20260425T135845
CREATED:20260217T143353Z
LAST-MODIFIED:20260217T143353Z
UID:3986-1772042400-1772046000@catholiccem.com
SUMMARY:Stations of the Cross
DESCRIPTION:We invite you to come pray the Stations of the Cross with us this Wednesday at 6 pm in our Holy Angels Mausoleum at Resurrection Cemetery. We will pray for those who have gone before us\, and for Christ to heal us as we carry and place our grief at the foot of His cross. Praying the Stations allows us to become more intimately connected to Jesus’ Passion and Death\, and is a great way for us to prepare for the coming of Easter Sunday.
URL:https://catholiccem.com/our-event/stations-of-the-cross-35/
LOCATION:Holy Angels Mausoleum – Resurrection Cemetery\, 7800 W Center Rd\, Omaha\, NE\, 68124\, United States
ORGANIZER;CN="Deacon Jim Tardy":MAILTO:jtardy@catholiccem.com
END:VEVENT
BEGIN:VEVENT
DTSTART;TZID=America/Chicago:20260303T170000
DTEND;TZID=America/Chicago:20260303T183000
DTSTAMP:20260425T135845
CREATED:20260217T141534Z
LAST-MODIFIED:20260217T141534Z
UID:3976-1772557200-1772562600@catholiccem.com
SUMMARY:Monthly Memorial Mass
DESCRIPTION:Join us as we remember those buried in February 2026 and March 2025. We pray a rosary starting at 5 pm\, following by reading the names of those being memorialized. Mass will begin at 5:30 pm.
URL:https://catholiccem.com/our-event/monthly-memorial-mass-92/
LOCATION:Holy Angels Mausoleum – Resurrection Cemetery\, 7800 W Center Rd\, Omaha\, NE\, 68124\, United States
END:VEVENT
END:VCALENDAR