BEGIN:VCALENDAR
VERSION:2.0
PRODID:-//Catholic Cemeteries Omaha - ECPv6.15.17.1//NONSGML v1.0//EN
CALSCALE:GREGORIAN
METHOD:PUBLISH
X-WR-CALNAME:Catholic Cemeteries Omaha
X-ORIGINAL-URL:https://catholiccem.com
X-WR-CALDESC:Events for Catholic Cemeteries Omaha
REFRESH-INTERVAL;VALUE=DURATION:PT1H
X-Robots-Tag:noindex
X-PUBLISHED-TTL:PT1H
BEGIN:VTIMEZONE
TZID:UTC
BEGIN:STANDARD
TZOFFSETFROM:+0000
TZOFFSETTO:+0000
TZNAME:UTC
DTSTART:20210101T000000
END:STANDARD
END:VTIMEZONE
BEGIN:VEVENT
DTSTART;TZID=UTC:20220530T090000
DTEND;TZID=UTC:20220530T133000
DTSTAMP:20260425T124658
CREATED:20220525T225034Z
LAST-MODIFIED:20220525T225034Z
UID:2930-1653901200-1653917400@catholiccem.com
SUMMARY:Memorial Day Weekend - Tent Hours
DESCRIPTION:Memorial Weekend we will have tents open for Cemetery Information\, such as locations\, and for flower sales.
URL:https://catholiccem.com/our-event/memorial-day-weekend-tent-hours-7/
LOCATION:Calvary Cemetery\, 7710 West Center Road\, Omaha\, NE\, 68124\, United States
END:VEVENT
BEGIN:VEVENT
DTSTART;TZID=UTC:20220530T100000
DTEND;TZID=UTC:20220530T110000
DTSTAMP:20260425T124659
CREATED:20220525T225133Z
LAST-MODIFIED:20220525T225133Z
UID:2931-1653904800-1653908400@catholiccem.com
SUMMARY:Memorial Day Masses
DESCRIPTION:Masses are held at all five of our cemeteries at 10 AM. \nOur Cemeteries are Calvary\, Resurrection\, Holy Sepulchre\, Saint Mary\, Saint Mary Magdalene.
URL:https://catholiccem.com/our-event/memorial-day-masses-2/
LOCATION:NE
END:VEVENT
BEGIN:VEVENT
DTSTART;TZID=UTC:20220606T170000
DTEND;TZID=UTC:20220606T183000
DTSTAMP:20260425T124659
CREATED:20220104T223911Z
LAST-MODIFIED:20220211T024536Z
UID:2759-1654534800-1654540200@catholiccem.com
SUMMARY:Monthly Memorial Mass
DESCRIPTION:Join us as we remember those buried in May 2022 and June 2021. \nWe pray a rosary starting at 5 pm\, following by reading the names of those being memorialize. Mass will begin at 5:30 pm. \n 
URL:https://catholiccem.com/our-event/monthly-memorial-mass-48/
LOCATION:Holy Angels Mausoleum – Resurrection Cemetery\, 7800 W Center Rd\, Omaha\, NE\, 68124\, United States
END:VEVENT
BEGIN:VEVENT
DTSTART;TZID=UTC:20220711T170000
DTEND;TZID=UTC:20220711T183000
DTSTAMP:20260425T124659
CREATED:20220104T224700Z
LAST-MODIFIED:20220211T024501Z
UID:2760-1657558800-1657564200@catholiccem.com
SUMMARY:Monthly Memorial Mass
DESCRIPTION:Join us as we remember those buried in June 2022 and July 2021. \nWe pray a rosary starting at 5 pm\, following by reading the names of those being memorialize. Mass will begin at 5:30 pm. \n 
URL:https://catholiccem.com/our-event/monthly-memorial-mass-49/
LOCATION:Holy Angels Mausoleum – Resurrection Cemetery\, 7800 W Center Rd\, Omaha\, NE\, 68124\, United States
END:VEVENT
BEGIN:VEVENT
DTSTART;TZID=UTC:20220801T170000
DTEND;TZID=UTC:20220801T183000
DTSTAMP:20260425T124659
CREATED:20220104T224826Z
LAST-MODIFIED:20220211T024421Z
UID:2761-1659373200-1659378600@catholiccem.com
SUMMARY:Monthly Memorial Mass
DESCRIPTION:Join us as we remember those buried in July 2022 and August 2021. \nWe pray a rosary starting at 5 pm\, following by reading the names of those being memorialize. Mass will begin at 5:30 pm. \n 
URL:https://catholiccem.com/our-event/monthly-memorial-mass-50/
LOCATION:Holy Angels Mausoleum – Resurrection Cemetery\, 7800 W Center Rd\, Omaha\, NE\, 68124\, United States
END:VEVENT
BEGIN:VEVENT
DTSTART;VALUE=DATE:20220905
DTEND;VALUE=DATE:20220906
DTSTAMP:20260425T124659
CREATED:20220104T230701Z
LAST-MODIFIED:20220104T230701Z
UID:2768-1662336000-1662422399@catholiccem.com
SUMMARY:Labor Day- Office Closed
DESCRIPTION:Our office will be closed for the Labor Day holiday. We will be back open again on Tuesday from 8:00-4:45.
URL:https://catholiccem.com/our-event/labor-day-office-closed-2/
LOCATION:Catholic Cemeteries Office\, 7710 West Center Road\, Omaha\, NE\, 68124\, United States
END:VEVENT
BEGIN:VEVENT
DTSTART;TZID=UTC:20220912T170000
DTEND;TZID=UTC:20220912T183000
DTSTAMP:20260425T124659
CREATED:20220104T224934Z
LAST-MODIFIED:20220211T024404Z
UID:2762-1663002000-1663007400@catholiccem.com
SUMMARY:Monthly Memorial Mass
DESCRIPTION:Join us as we remember those buried in August 2022 and September 2021. \nWe pray a rosary starting at 5 pm\, following by reading the names of those being memorialize. Mass will begin at 5:30 pm. \n 
URL:https://catholiccem.com/our-event/monthly-memorial-mass-51/
LOCATION:Holy Angels Mausoleum – Resurrection Cemetery\, 7800 W Center Rd\, Omaha\, NE\, 68124\, United States
END:VEVENT
BEGIN:VEVENT
DTSTART;TZID=UTC:20221003T170000
DTEND;TZID=UTC:20221003T183000
DTSTAMP:20260425T124659
CREATED:20220104T225202Z
LAST-MODIFIED:20220211T024346Z
UID:2763-1664816400-1664821800@catholiccem.com
SUMMARY:Monthly Memorial Mass
DESCRIPTION:Join us as we remember those buried in September 2022 and October 2021. \nWe pray a rosary starting at 5 pm\, following by reading the names of those being memorialize. Mass will begin at 5:30 pm. \n 
URL:https://catholiccem.com/our-event/monthly-memorial-mass-52/
LOCATION:Holy Angels Mausoleum – Resurrection Cemetery\, 7800 W Center Rd\, Omaha\, NE\, 68124\, United States
END:VEVENT
BEGIN:VEVENT
DTSTART;TZID=UTC:20221107T170000
DTEND;TZID=UTC:20221107T183000
DTSTAMP:20260425T124659
CREATED:20220104T225332Z
LAST-MODIFIED:20220211T024312Z
UID:2764-1667840400-1667845800@catholiccem.com
SUMMARY:Monthly Memorial Mass
DESCRIPTION:Join us as we remember those buried in October 2022 and November 2021. \nWe pray a rosary starting at 5 pm\, following by reading the names of those being memorialize. Mass will begin at 5:30 pm. \n 
URL:https://catholiccem.com/our-event/monthly-memorial-mass-53/
LOCATION:Holy Angels Mausoleum – Resurrection Cemetery\, 7800 W Center Rd\, Omaha\, NE\, 68124\, United States
END:VEVENT
BEGIN:VEVENT
DTSTART;VALUE=DATE:20221124
DTEND;VALUE=DATE:20221125
DTSTAMP:20260425T124659
CREATED:20220104T231741Z
LAST-MODIFIED:20220104T231741Z
UID:2770-1669248000-1669334399@catholiccem.com
SUMMARY:Thanksgiving- Office Closed
DESCRIPTION:Our office will be closed so our employees can celebrate Thanksgiving with their families.
URL:https://catholiccem.com/our-event/thanksgiving-office-closed/
LOCATION:Catholic Cemeteries Office\, 7710 West Center Road\, Omaha\, NE\, 68124\, United States
END:VEVENT
BEGIN:VEVENT
DTSTART;TZID=UTC:20221205T170000
DTEND;TZID=UTC:20221205T183000
DTSTAMP:20260425T124659
CREATED:20220104T225501Z
LAST-MODIFIED:20220211T024250Z
UID:2765-1670259600-1670265000@catholiccem.com
SUMMARY:Monthly Memorial Mass
DESCRIPTION:Join us as we remember those buried in November 2022 and December 2021. \nWe pray a rosary starting at 5 pm\, following by reading the names of those being memorialize. Mass will begin at 5:30 pm. \n 
URL:https://catholiccem.com/our-event/monthly-memorial-mass-54/
LOCATION:Holy Angels Mausoleum – Resurrection Cemetery\, 7800 W Center Rd\, Omaha\, NE\, 68124\, United States
END:VEVENT
BEGIN:VEVENT
DTSTART;TZID=UTC:20230206T170000
DTEND;TZID=UTC:20230206T183000
DTSTAMP:20260425T124659
CREATED:20230221T032217Z
LAST-MODIFIED:20230221T033942Z
UID:3049-1675702800-1675708200@catholiccem.com
SUMMARY:Monthly Memorial Mass
DESCRIPTION:Join us as we remember those buried in January 2023 and February 2022. We pray a rosary starting at 5 pm\, following by reading the names of those being memorialized. Mass will begin at 5:30 pm.
URL:https://catholiccem.com/our-event/monthly-memorial-mass-55/
LOCATION:Holy Angels Mausoleum – Resurrection Cemetery\, 7800 W Center Rd\, Omaha\, NE\, 68124\, United States
END:VEVENT
BEGIN:VEVENT
DTSTART;TZID=UTC:20230301T180000
DTEND;TZID=UTC:20230301T190000
DTSTAMP:20260425T124659
CREATED:20230221T032541Z
LAST-MODIFIED:20230221T032541Z
UID:3051-1677693600-1677697200@catholiccem.com
SUMMARY:Stations of the Cross
DESCRIPTION:We invite you to come pray the Stations of the Cross with us this Wednesday at 6 pm in our Holy Angels Mausoleum at Resurrection Cemetery. We will pray for those who have gone before us\, and for Christ to heal us as we carry and place our grief at the foot of His cross. Praying the Stations allows us to become more intimately connected to Jesus’ Passion and Death\, and is a great way for us to prepare for the coming of Easter Sunday!
URL:https://catholiccem.com/our-event/stations-of-the-cross-20/
LOCATION:Holy Angels Mausoleum – Resurrection Cemetery\, 7800 W Center Rd\, Omaha\, NE\, 68124\, United States
ORGANIZER;CN="Deacon Jim Tardy":MAILTO:jtardy@catholiccem.com
END:VEVENT
BEGIN:VEVENT
DTSTART;TZID=UTC:20230306T170000
DTEND;TZID=UTC:20230306T183000
DTSTAMP:20260425T124659
CREATED:20230221T032314Z
LAST-MODIFIED:20230221T034006Z
UID:3050-1678122000-1678127400@catholiccem.com
SUMMARY:Monthly Memorial Mass
DESCRIPTION:Join us as we remember those buried in February 2023 and March 2022. We pray a rosary starting at 5 pm\, following by reading the names of those being memorialized. Mass will begin at 5:30 pm.
URL:https://catholiccem.com/our-event/monthly-memorial-mass-56/
LOCATION:Holy Angels Mausoleum – Resurrection Cemetery\, 7800 W Center Rd\, Omaha\, NE\, 68124\, United States
END:VEVENT
BEGIN:VEVENT
DTSTART;TZID=UTC:20230308T180000
DTEND;TZID=UTC:20230308T190000
DTSTAMP:20260425T124659
CREATED:20230221T032625Z
LAST-MODIFIED:20230221T032625Z
UID:3052-1678298400-1678302000@catholiccem.com
SUMMARY:Stations of the Cross
DESCRIPTION:We invite you to come pray the Stations of the Cross with us this Wednesday at 6 pm in our Holy Angels Mausoleum at Resurrection Cemetery. We will pray for those who have gone before us\, and for Christ to heal us as we carry and place our grief at the foot of His cross. Praying the Stations allows us to become more intimately connected to Jesus’ Passion and Death\, and is a great way for us to prepare for the coming of Easter Sunday!
URL:https://catholiccem.com/our-event/stations-of-the-cross-21/
LOCATION:Holy Angels Mausoleum – Resurrection Cemetery\, 7800 W Center Rd\, Omaha\, NE\, 68124\, United States
ORGANIZER;CN="Deacon Jim Tardy":MAILTO:jtardy@catholiccem.com
END:VEVENT
BEGIN:VEVENT
DTSTART;TZID=UTC:20230315T180000
DTEND;TZID=UTC:20230315T190000
DTSTAMP:20260425T124659
CREATED:20230221T032701Z
LAST-MODIFIED:20230221T032701Z
UID:3053-1678903200-1678906800@catholiccem.com
SUMMARY:Stations of the Cross
DESCRIPTION:We invite you to come pray the Stations of the Cross with us this Wednesday at 6 pm in our Holy Angels Mausoleum at Resurrection Cemetery. We will pray for those who have gone before us\, and for Christ to heal us as we carry and place our grief at the foot of His cross. Praying the Stations allows us to become more intimately connected to Jesus’ Passion and Death\, and is a great way for us to prepare for the coming of Easter Sunday!
URL:https://catholiccem.com/our-event/stations-of-the-cross-22/
LOCATION:Holy Angels Mausoleum – Resurrection Cemetery\, 7800 W Center Rd\, Omaha\, NE\, 68124\, United States
ORGANIZER;CN="Deacon Jim Tardy":MAILTO:jtardy@catholiccem.com
END:VEVENT
BEGIN:VEVENT
DTSTART;TZID=UTC:20230322T180000
DTEND;TZID=UTC:20230322T190000
DTSTAMP:20260425T124659
CREATED:20230221T032737Z
LAST-MODIFIED:20230221T032737Z
UID:3054-1679508000-1679511600@catholiccem.com
SUMMARY:Stations of the Cross
DESCRIPTION:We invite you to come pray the Stations of the Cross with us this Wednesday at 6 pm in our Holy Angels Mausoleum at Resurrection Cemetery. We will pray for those who have gone before us\, and for Christ to heal us as we carry and place our grief at the foot of His cross. Praying the Stations allows us to become more intimately connected to Jesus’ Passion and Death\, and is a great way for us to prepare for the coming of Easter Sunday!
URL:https://catholiccem.com/our-event/stations-of-the-cross-23/
LOCATION:Holy Angels Mausoleum – Resurrection Cemetery\, 7800 W Center Rd\, Omaha\, NE\, 68124\, United States
ORGANIZER;CN="Deacon Jim Tardy":MAILTO:jtardy@catholiccem.com
END:VEVENT
BEGIN:VEVENT
DTSTART;TZID=UTC:20230329T180000
DTEND;TZID=UTC:20230329T190000
DTSTAMP:20260425T124659
CREATED:20230221T032814Z
LAST-MODIFIED:20230221T032814Z
UID:3055-1680112800-1680116400@catholiccem.com
SUMMARY:Stations of the Cross
DESCRIPTION:We invite you to come pray the Stations of the Cross with us this Wednesday at 6 pm in our Holy Angels Mausoleum at Resurrection Cemetery. We will pray for those who have gone before us\, and for Christ to heal us as we carry and place our grief at the foot of His cross. Praying the Stations allows us to become more intimately connected to Jesus’ Passion and Death\, and is a great way for us to prepare for the coming of Easter Sunday!
URL:https://catholiccem.com/our-event/stations-of-the-cross-24/
LOCATION:Holy Angels Mausoleum – Resurrection Cemetery\, 7800 W Center Rd\, Omaha\, NE\, 68124\, United States
ORGANIZER;CN="Deacon Jim Tardy":MAILTO:jtardy@catholiccem.com
END:VEVENT
BEGIN:VEVENT
DTSTART;TZID=UTC:20230403T170000
DTEND;TZID=UTC:20230403T183000
DTSTAMP:20260425T124659
CREATED:20230221T033414Z
LAST-MODIFIED:20230221T034026Z
UID:3058-1680541200-1680546600@catholiccem.com
SUMMARY:Monthly Memorial Mass
DESCRIPTION:Join us as we remember those buried in March 2023 and April 2022. We pray a rosary starting at 5 pm\, following by reading the names of those being memorialized. Mass will begin at 5:30 pm.
URL:https://catholiccem.com/our-event/monthly-memorial-mass-57/
LOCATION:Holy Angels Mausoleum – Resurrection Cemetery\, 7800 W Center Rd\, Omaha\, NE\, 68124\, United States
END:VEVENT
BEGIN:VEVENT
DTSTART;TZID=UTC:20230407T080000
DTEND;TZID=UTC:20230407T170000
DTSTAMP:20260425T124659
CREATED:20230221T032931Z
LAST-MODIFIED:20230221T032931Z
UID:3056-1680854400-1680886800@catholiccem.com
SUMMARY:Office Closed-Good Friday
DESCRIPTION:Our office will be closed on this very important day in our church\, Good Friday.
URL:https://catholiccem.com/our-event/office-closed-good-friday/
LOCATION:Catholic Cemeteries Office\, 7710 West Center Road\, Omaha\, NE\, 68124\, United States
END:VEVENT
BEGIN:VEVENT
DTSTART;TZID=UTC:20230407T150000
DTEND;TZID=UTC:20230407T160000
DTSTAMP:20260425T124659
CREATED:20230221T033223Z
LAST-MODIFIED:20230221T033223Z
UID:3057-1680879600-1680883200@catholiccem.com
SUMMARY:Good Friday Stations of the Cross
DESCRIPTION:We invite you to join us as we walk the Stations of the Cross on Good Friday\, at 3 pm at Calvary Cemetery. Join us as we walk in the path of Jesus as He goes to His Crucifixion. We will pray for those who have gone before us\, and for Christ to heal us as we carry and place our grief at the foot of His cross. \nWe will meet at Station 1 to start our journey with the Lord on His “Via Dollorosa” (translated Way of Sorrows).
URL:https://catholiccem.com/our-event/good-friday-stations-of-the-cross-2/
LOCATION:Calvary Cemetery\, 7710 West Center Road\, Omaha\, NE\, 68124\, United States
ORGANIZER;CN="Deacon Jim Tardy":MAILTO:jtardy@catholiccem.com
END:VEVENT
BEGIN:VEVENT
DTSTART;TZID=UTC:20230501T170000
DTEND;TZID=UTC:20230501T183000
DTSTAMP:20260425T124659
CREATED:20230221T033516Z
LAST-MODIFIED:20230221T034055Z
UID:3059-1682960400-1682965800@catholiccem.com
SUMMARY:Monthly Memorial Mass
DESCRIPTION:Join us as we remember those buried in April 2023 and May 2022. We pray a rosary starting at 5 pm\, following by reading the names of those being memorialized. Mass will begin at 5:30 pm.
URL:https://catholiccem.com/our-event/monthly-memorial-mass-58/
LOCATION:Holy Angels Mausoleum – Resurrection Cemetery\, 7800 W Center Rd\, Omaha\, NE\, 68124\, United States
END:VEVENT
BEGIN:VEVENT
DTSTART;TZID=UTC:20230529T100000
DTEND;TZID=UTC:20230529T110000
DTSTAMP:20260425T124659
CREATED:20230221T033802Z
LAST-MODIFIED:20230221T033802Z
UID:3060-1685354400-1685358000@catholiccem.com
SUMMARY:Memorial Day Masses
DESCRIPTION:Masses are held at all five of our cemeteries at 10 AM. \nOur Cemeteries are Calvary\, Resurrection\, Holy Sepulchre\, Saint Mary\, Saint Mary Magdalene.
URL:https://catholiccem.com/our-event/memorial-day-masses-3/
LOCATION:NE
END:VEVENT
BEGIN:VEVENT
DTSTART;TZID=UTC:20230605T170000
DTEND;TZID=UTC:20230605T183000
DTSTAMP:20260425T124659
CREATED:20230221T034147Z
LAST-MODIFIED:20230221T034147Z
UID:3062-1685984400-1685989800@catholiccem.com
SUMMARY:Monthly Memorial Mass
DESCRIPTION:Join us as we remember those buried in May 2023 and June 2022. We pray a rosary starting at 5 pm\, following by reading the names of those being memorialized. Mass will begin at 5:30 pm.
URL:https://catholiccem.com/our-event/monthly-memorial-mass-59/
LOCATION:Holy Angels Mausoleum – Resurrection Cemetery\, 7800 W Center Rd\, Omaha\, NE\, 68124\, United States
END:VEVENT
BEGIN:VEVENT
DTSTART;TZID=UTC:20230703T170000
DTEND;TZID=UTC:20230703T183000
DTSTAMP:20260425T124659
CREATED:20230221T034242Z
LAST-MODIFIED:20230221T034322Z
UID:3063-1688403600-1688409000@catholiccem.com
SUMMARY:Monthly Memorial Mass
DESCRIPTION:Join us as we remember those buried in June 2023 and July 2022. We pray a rosary starting at 5 pm\, following by reading the names of those being memorialized. Mass will begin at 5:30 pm.
URL:https://catholiccem.com/our-event/monthly-memorial-mass-60/
LOCATION:Holy Angels Mausoleum – Resurrection Cemetery\, 7800 W Center Rd\, Omaha\, NE\, 68124\, United States
END:VEVENT
BEGIN:VEVENT
DTSTART;TZID=UTC:20230704T080000
DTEND;TZID=UTC:20230704T170000
DTSTAMP:20260425T124659
CREATED:20230221T034609Z
LAST-MODIFIED:20230221T034609Z
UID:3066-1688457600-1688490000@catholiccem.com
SUMMARY:Office Closed- Fourth of July
DESCRIPTION:Our office will be closed for the Fourth of July holiday.
URL:https://catholiccem.com/our-event/office-closed-fourth-of-july/
LOCATION:Catholic Cemeteries Office\, 7710 West Center Road\, Omaha\, NE\, 68124\, United States
END:VEVENT
BEGIN:VEVENT
DTSTART;TZID=UTC:20230807T170000
DTEND;TZID=UTC:20230807T183000
DTSTAMP:20260425T124659
CREATED:20230221T034415Z
LAST-MODIFIED:20230221T034415Z
UID:3064-1691427600-1691433000@catholiccem.com
SUMMARY:Monthly Memorial Mass
DESCRIPTION:Join us as we remember those buried in July 2023 and August 2022. We pray a rosary starting at 5 pm\, following by reading the names of those being memorialized. Mass will begin at 5:30 pm.
URL:https://catholiccem.com/our-event/monthly-memorial-mass-61/
LOCATION:Holy Angels Mausoleum – Resurrection Cemetery\, 7800 W Center Rd\, Omaha\, NE\, 68124\, United States
END:VEVENT
BEGIN:VEVENT
DTSTART;TZID=UTC:20230904T080000
DTEND;TZID=UTC:20230904T170000
DTSTAMP:20260425T124659
CREATED:20230221T034652Z
LAST-MODIFIED:20230221T034652Z
UID:3067-1693814400-1693846800@catholiccem.com
SUMMARY:Office Closed- Labor Day
DESCRIPTION:Our office will be closed for the Labor day holiday.
URL:https://catholiccem.com/our-event/office-closed-labor-day/
LOCATION:Catholic Cemeteries Office\, 7710 West Center Road\, Omaha\, NE\, 68124\, United States
END:VEVENT
BEGIN:VEVENT
DTSTART;TZID=UTC:20230911T170000
DTEND;TZID=UTC:20230911T183000
DTSTAMP:20260425T124659
CREATED:20230221T034518Z
LAST-MODIFIED:20230221T034518Z
UID:3065-1694451600-1694457000@catholiccem.com
SUMMARY:Monthly Memorial Mass
DESCRIPTION:Join us as we remember those buried in August 2023 and September 2022. We pray a rosary starting at 5 pm\, following by reading the names of those being memorialized. Mass will begin at 5:30 pm.
URL:https://catholiccem.com/our-event/monthly-memorial-mass-62/
LOCATION:Holy Angels Mausoleum – Resurrection Cemetery\, 7800 W Center Rd\, Omaha\, NE\, 68124\, United States
END:VEVENT
BEGIN:VEVENT
DTSTART;TZID=UTC:20231002T170000
DTEND;TZID=UTC:20231002T183000
DTSTAMP:20260425T124659
CREATED:20230221T034850Z
LAST-MODIFIED:20230221T034850Z
UID:3068-1696266000-1696271400@catholiccem.com
SUMMARY:Monthly Memorial Mass
DESCRIPTION:Join us as we remember those buried in September 2023 and October 2022. We pray a rosary starting at 5 pm\, following by reading the names of those being memorialized. Mass will begin at 5:30 pm.
URL:https://catholiccem.com/our-event/monthly-memorial-mass-63/
LOCATION:Holy Angels Mausoleum – Resurrection Cemetery\, 7800 W Center Rd\, Omaha\, NE\, 68124\, United States
ORGANIZER;CN="Deacon Jim Tardy":MAILTO:jtardy@catholiccem.com
END:VEVENT
END:VCALENDAR