BEGIN:VCALENDAR
VERSION:2.0
PRODID:-//Catholic Cemeteries Omaha - ECPv6.15.17.1//NONSGML v1.0//EN
CALSCALE:GREGORIAN
METHOD:PUBLISH
X-WR-CALNAME:Catholic Cemeteries Omaha
X-ORIGINAL-URL:https://catholiccem.com
X-WR-CALDESC:Events for Catholic Cemeteries Omaha
REFRESH-INTERVAL;VALUE=DURATION:PT1H
X-Robots-Tag:noindex
X-PUBLISHED-TTL:PT1H
BEGIN:VTIMEZONE
TZID:America/Chicago
BEGIN:DAYLIGHT
TZOFFSETFROM:-0600
TZOFFSETTO:-0500
TZNAME:CDT
DTSTART:20230312T080000
END:DAYLIGHT
BEGIN:STANDARD
TZOFFSETFROM:-0500
TZOFFSETTO:-0600
TZNAME:CST
DTSTART:20231105T070000
END:STANDARD
BEGIN:DAYLIGHT
TZOFFSETFROM:-0600
TZOFFSETTO:-0500
TZNAME:CDT
DTSTART:20240310T080000
END:DAYLIGHT
BEGIN:STANDARD
TZOFFSETFROM:-0500
TZOFFSETTO:-0600
TZNAME:CST
DTSTART:20241103T070000
END:STANDARD
BEGIN:DAYLIGHT
TZOFFSETFROM:-0600
TZOFFSETTO:-0500
TZNAME:CDT
DTSTART:20250309T080000
END:DAYLIGHT
BEGIN:STANDARD
TZOFFSETFROM:-0500
TZOFFSETTO:-0600
TZNAME:CST
DTSTART:20251102T070000
END:STANDARD
BEGIN:DAYLIGHT
TZOFFSETFROM:-0600
TZOFFSETTO:-0500
TZNAME:CDT
DTSTART:20260308T080000
END:DAYLIGHT
BEGIN:STANDARD
TZOFFSETFROM:-0500
TZOFFSETTO:-0600
TZNAME:CST
DTSTART:20261101T070000
END:STANDARD
END:VTIMEZONE
BEGIN:VEVENT
DTSTART;TZID=America/Chicago:20240524T090000
DTEND;TZID=America/Chicago:20240524T160000
DTSTAMP:20260425T104945
CREATED:20240509T190537Z
LAST-MODIFIED:20240509T190537Z
UID:3417-1716541200-1716566400@catholiccem.com
SUMMARY:Memorial Day Weekend- Tent hours
DESCRIPTION:We will have tents open in Calvary Cemetery to help families find locations of loved ones and sell flowers (fresh & artificial).
URL:https://catholiccem.com/our-event/memorial-day-weekend-tent-hours-8/
LOCATION:Calvary Cemetery\, 7710 West Center Road\, Omaha\, NE\, 68124\, United States
END:VEVENT
BEGIN:VEVENT
DTSTART;TZID=America/Chicago:20240525T100000
DTEND;TZID=America/Chicago:20240525T150000
DTSTAMP:20260425T104945
CREATED:20240509T190634Z
LAST-MODIFIED:20240509T190634Z
UID:3418-1716631200-1716649200@catholiccem.com
SUMMARY:Memorial Day Weekend- Tent hours
DESCRIPTION:We will have tents open in Calvary Cemetery to help families find locations of loved ones and sell flowers (fresh & artificial).
URL:https://catholiccem.com/our-event/memorial-day-weekend-tent-hours-9/
LOCATION:Calvary Cemetery\, 7710 West Center Road\, Omaha\, NE\, 68124\, United States
END:VEVENT
BEGIN:VEVENT
DTSTART;TZID=America/Chicago:20240526T100000
DTEND;TZID=America/Chicago:20240526T150000
DTSTAMP:20260425T104945
CREATED:20240509T190723Z
LAST-MODIFIED:20240509T190723Z
UID:3419-1716717600-1716735600@catholiccem.com
SUMMARY:Memorial Day Weekend- Tent hours
DESCRIPTION:We will have tents open in Calvary Cemetery to help families find locations of loved ones and sell flowers (fresh & artificial).
URL:https://catholiccem.com/our-event/memorial-day-weekend-tent-hours-10/
LOCATION:Calvary Cemetery\, 7710 West Center Road\, Omaha\, NE\, 68124\, United States
END:VEVENT
BEGIN:VEVENT
DTSTART;TZID=America/Chicago:20240527T090000
DTEND;TZID=America/Chicago:20240527T133000
DTSTAMP:20260425T104945
CREATED:20240108T162309Z
LAST-MODIFIED:20240509T190903Z
UID:3315-1716800400-1716816600@catholiccem.com
SUMMARY:Memorial Day Weekend- Tent hours
DESCRIPTION:We will have tents open in Calvary Cemetery to help families find locations of loved ones and sell flowers (fresh & artificial).
URL:https://catholiccem.com/our-event/memorial-day/
LOCATION:Calvary Cemetery\, 7710 West Center Road\, Omaha\, NE\, 68124\, United States
END:VEVENT
BEGIN:VEVENT
DTSTART;TZID=America/Chicago:20240527T100000
DTEND;TZID=America/Chicago:20240527T110000
DTSTAMP:20260425T104945
CREATED:20240124T215348Z
LAST-MODIFIED:20240124T215348Z
UID:3324-1716804000-1716807600@catholiccem.com
SUMMARY:Memorial Day Masses
DESCRIPTION:Masses are held at all five of our cemeteries at 10 AM. \nOur Cemeteries are Calvary\, Resurrection\, Holy Sepulchre\, Saint Mary\, Saint Mary Magdalene.
URL:https://catholiccem.com/our-event/memorial-day-masses-4/
LOCATION:NE
END:VEVENT
BEGIN:VEVENT
DTSTART;TZID=America/Chicago:20240604T170000
DTEND;TZID=America/Chicago:20240604T183000
DTSTAMP:20260425T104945
CREATED:20240108T161907Z
LAST-MODIFIED:20240108T161907Z
UID:3314-1717520400-1717525800@catholiccem.com
SUMMARY:Monthly Memorial Mass
DESCRIPTION:Join us as we remember those buried in May 2024 and June 2023. We pray a rosary starting at 5 pm\, following by reading the names of those being memorialized. Mass will begin at 5:30 pm.
URL:https://catholiccem.com/our-event/monthly-memorial-mass-71/
LOCATION:Holy Angels Mausoleum – Resurrection Cemetery\, 7800 W Center Rd\, Omaha\, NE\, 68124\, United States
END:VEVENT
BEGIN:VEVENT
DTSTART;TZID=America/Chicago:20240702T170000
DTEND;TZID=America/Chicago:20240702T183000
DTSTAMP:20260425T104945
CREATED:20240108T162451Z
LAST-MODIFIED:20240108T162451Z
UID:3316-1719939600-1719945000@catholiccem.com
SUMMARY:Monthly Memorial Mass
DESCRIPTION:Join us as we remember those buried in June 2024 and July 2023. We pray a rosary starting at 5 pm\, following by reading the names of those being memorialized. Mass will begin at 5:30 pm.
URL:https://catholiccem.com/our-event/monthly-memorial-mass-72/
LOCATION:Holy Angels Mausoleum – Resurrection Cemetery\, 7800 W Center Rd\, Omaha\, NE\, 68124\, United States
END:VEVENT
BEGIN:VEVENT
DTSTART;TZID=America/Chicago:20240704T080000
DTEND;TZID=America/Chicago:20240704T170000
DTSTAMP:20260425T104945
CREATED:20240108T163022Z
LAST-MODIFIED:20240108T163022Z
UID:3318-1720080000-1720112400@catholiccem.com
SUMMARY:Holiday office closed
DESCRIPTION:Our office will be closed to celebrate the Fourth of July.
URL:https://catholiccem.com/our-event/holiday-office-closed/
LOCATION:Catholic Cemeteries Office\, 7710 West Center Road\, Omaha\, NE\, 68124\, United States
END:VEVENT
BEGIN:VEVENT
DTSTART;TZID=America/Chicago:20240806T170000
DTEND;TZID=America/Chicago:20240806T183000
DTSTAMP:20260425T104945
CREATED:20240108T162755Z
LAST-MODIFIED:20240108T162755Z
UID:3317-1722963600-1722969000@catholiccem.com
SUMMARY:Monthly Memorial Mass
DESCRIPTION:Join us as we remember those buried in July 2024 and August 2023. We pray a rosary starting at 5 pm\, following by reading the names of those being memorialized. Mass will begin at 5:30 pm.
URL:https://catholiccem.com/our-event/monthly-memorial-mass-73/
LOCATION:Holy Angels Mausoleum – Resurrection Cemetery\, 7800 W Center Rd\, Omaha\, NE\, 68124\, United States
END:VEVENT
BEGIN:VEVENT
DTSTART;TZID=America/Chicago:20240902T080000
DTEND;TZID=America/Chicago:20240902T170000
DTSTAMP:20260425T104945
CREATED:20240124T215636Z
LAST-MODIFIED:20240124T215636Z
UID:3325-1725264000-1725296400@catholiccem.com
SUMMARY:Labor Day- office closed
DESCRIPTION:
URL:https://catholiccem.com/our-event/labor-day-office-closed-3/
LOCATION:Catholic Cemeteries Office\, 7710 West Center Road\, Omaha\, NE\, 68124\, United States
END:VEVENT
BEGIN:VEVENT
DTSTART;TZID=America/Chicago:20240910T170000
DTEND;TZID=America/Chicago:20240910T183000
DTSTAMP:20260425T104945
CREATED:20240124T215822Z
LAST-MODIFIED:20240124T215822Z
UID:3326-1725987600-1725993000@catholiccem.com
SUMMARY:Monthly Memorial Mass
DESCRIPTION:Join us as we remember those buried in August 2024 and September 2023. We pray a rosary starting at 5 pm\, following by reading the names of those being memorialized. Mass will begin at 5:30 pm.
URL:https://catholiccem.com/our-event/monthly-memorial-mass-74/
LOCATION:Holy Angels Mausoleum – Resurrection Cemetery\, 7800 W Center Rd\, Omaha\, NE\, 68124\, United States
END:VEVENT
BEGIN:VEVENT
DTSTART;TZID=America/Chicago:20241008T170000
DTEND;TZID=America/Chicago:20241008T183000
DTSTAMP:20260425T104945
CREATED:20240124T215951Z
LAST-MODIFIED:20240124T215951Z
UID:3327-1728406800-1728412200@catholiccem.com
SUMMARY:Monthly Memorial Mass
DESCRIPTION:Join us as we remember those buried in September 2024 and October 2023. We pray a rosary starting at 5 pm\, following by reading the names of those being memorialized. Mass will begin at 5:30 pm.
URL:https://catholiccem.com/our-event/monthly-memorial-mass-75/
LOCATION:Holy Angels Mausoleum – Resurrection Cemetery\, 7800 W Center Rd\, Omaha\, NE\, 68124\, United States
END:VEVENT
BEGIN:VEVENT
DTSTART;TZID=America/Chicago:20241105T170000
DTEND;TZID=America/Chicago:20241105T183000
DTSTAMP:20260425T104945
CREATED:20240124T220215Z
LAST-MODIFIED:20240124T220215Z
UID:3328-1730826000-1730831400@catholiccem.com
SUMMARY:Monthly Memorial Mass
DESCRIPTION:Join us as we remember those buried in October 2024 and November 2023. We pray a rosary starting at 5 pm\, following by reading the names of those being memorialized. Mass will begin at 5:30 pm.
URL:https://catholiccem.com/our-event/monthly-memorial-mass-76/
LOCATION:Holy Angels Mausoleum – Resurrection Cemetery\, 7800 W Center Rd\, Omaha\, NE\, 68124\, United States
END:VEVENT
BEGIN:VEVENT
DTSTART;TZID=America/Chicago:20241128T080000
DTEND;TZID=America/Chicago:20241128T170000
DTSTAMP:20260425T104945
CREATED:20240124T220335Z
LAST-MODIFIED:20240124T220335Z
UID:3330-1732780800-1732813200@catholiccem.com
SUMMARY:Thanksgiving- office closed
DESCRIPTION:Our office is closed so our workers can celebrate Thanksgiving with their families.
URL:https://catholiccem.com/our-event/thanksgiving-office-closed-2/
LOCATION:Catholic Cemeteries Office\, 7710 West Center Road\, Omaha\, NE\, 68124\, United States
END:VEVENT
BEGIN:VEVENT
DTSTART;TZID=America/Chicago:20241203T170000
DTEND;TZID=America/Chicago:20241203T183000
DTSTAMP:20260425T104945
CREATED:20240124T220503Z
LAST-MODIFIED:20240124T220503Z
UID:3331-1733245200-1733250600@catholiccem.com
SUMMARY:Monthly Memorial Mass
DESCRIPTION:Join us as we remember those buried in November 2024 and December 2023. We pray a rosary starting at 5 pm\, following by reading the names of those being memorialized. Mass will begin at 5:30 pm.
URL:https://catholiccem.com/our-event/monthly-memorial-mass-77/
LOCATION:Holy Angels Mausoleum – Resurrection Cemetery\, 7800 W Center Rd\, Omaha\, NE\, 68124\, United States
END:VEVENT
BEGIN:VEVENT
DTSTART;TZID=America/Chicago:20241204T180000
DTEND;TZID=America/Chicago:20241204T190000
DTSTAMP:20260425T104945
CREATED:20241204T155124Z
LAST-MODIFIED:20241204T155124Z
UID:3644-1733335200-1733338800@catholiccem.com
SUMMARY:Advent Prayer Service
DESCRIPTION:Catholic Cemeteries of the Archdiocese of Omaha invite those who have lost loved ones to join us Wednesdays in Advent (December 4th\, 11th\, and 18th at 6:00 PM) in the Holy Angels Mausoleum at Resurrection Cemetery. \nWe will pray for your peace and healing as we await the coming of the Christ Child. Come and leave your petitions at the Christmas Remembrance Tree. They will be offered in prayer during all of Advent and presented silently during the January 7th 2025 Memorial Mass. \nThe Advent Season connects memory and hope. This Holy Season awakens in us the most profound memory of God who so loved the world that he sent his only Son to redeem His Father’s creation. This is a time of healing and hope. It is the Church’s sincere desire to remind us even in the despair of having lost a loved one\, it is in holiness that we take on the task of Advent to remember to waken in all of us the memories of God’s Goodness and thus begin to live in hope.
URL:https://catholiccem.com/our-event/advent-prayer-service-19/
LOCATION:Holy Angels Mausoleum – Resurrection Cemetery\, 7800 W Center Rd\, Omaha\, NE\, 68124\, United States
ORGANIZER;CN="Deacon Jim Tardy":MAILTO:jtardy@catholiccem.com
END:VEVENT
BEGIN:VEVENT
DTSTART;TZID=America/Chicago:20241211T180000
DTEND;TZID=America/Chicago:20241211T190000
DTSTAMP:20260425T104945
CREATED:20241204T155216Z
LAST-MODIFIED:20241204T155216Z
UID:3645-1733940000-1733943600@catholiccem.com
SUMMARY:Advent Prayer Service
DESCRIPTION:Catholic Cemeteries of the Archdiocese of Omaha invite those who have lost loved ones to join us Wednesdays in Advent (December 4th\, 11th\, and 18th at 6:00 PM) in the Holy Angels Mausoleum at Resurrection Cemetery. \nWe will pray for your peace and healing as we await the coming of the Christ Child. Come and leave your petitions at the Christmas Remembrance Tree. They will be offered in prayer during all of Advent and presented silently during the January 7th 2025 Memorial Mass. \nThe Advent Season connects memory and hope. This Holy Season awakens in us the most profound memory of God who so loved the world that he sent his only Son to redeem His Father’s creation. This is a time of healing and hope. It is the Church’s sincere desire to remind us even in the despair of having lost a loved one\, it is in holiness that we take on the task of Advent to remember to waken in all of us the memories of God’s Goodness and thus begin to live in hope.
URL:https://catholiccem.com/our-event/advent-prayer-service-20/
LOCATION:Holy Angels Mausoleum – Resurrection Cemetery\, 7800 W Center Rd\, Omaha\, NE\, 68124\, United States
ORGANIZER;CN="Deacon Jim Tardy":MAILTO:jtardy@catholiccem.com
END:VEVENT
BEGIN:VEVENT
DTSTART;TZID=America/Chicago:20241218T180000
DTEND;TZID=America/Chicago:20241218T190000
DTSTAMP:20260425T104945
CREATED:20241204T155257Z
LAST-MODIFIED:20241204T155257Z
UID:3646-1734544800-1734548400@catholiccem.com
SUMMARY:Advent Prayer Service
DESCRIPTION:Catholic Cemeteries of the Archdiocese of Omaha invite those who have lost loved ones to join us Wednesdays in Advent (December 4th\, 11th\, and 18th at 6:00 PM) in the Holy Angels Mausoleum at Resurrection Cemetery. \nWe will pray for your peace and healing as we await the coming of the Christ Child. Come and leave your petitions at the Christmas Remembrance Tree. They will be offered in prayer during all of Advent and presented silently during the January 7th 2025 Memorial Mass. \nThe Advent Season connects memory and hope. This Holy Season awakens in us the most profound memory of God who so loved the world that he sent his only Son to redeem His Father’s creation. This is a time of healing and hope. It is the Church’s sincere desire to remind us even in the despair of having lost a loved one\, it is in holiness that we take on the task of Advent to remember to waken in all of us the memories of God’s Goodness and thus begin to live in hope.
URL:https://catholiccem.com/our-event/advent-prayer-service-21/
LOCATION:Holy Angels Mausoleum – Resurrection Cemetery\, 7800 W Center Rd\, Omaha\, NE\, 68124\, United States
ORGANIZER;CN="Deacon Jim Tardy":MAILTO:jtardy@catholiccem.com
END:VEVENT
BEGIN:VEVENT
DTSTART;TZID=America/Chicago:20241225T080000
DTEND;TZID=America/Chicago:20241225T170000
DTSTAMP:20260425T104945
CREATED:20240124T220617Z
LAST-MODIFIED:20240124T220626Z
UID:3332-1735113600-1735146000@catholiccem.com
SUMMARY:Christmas Day- office closed
DESCRIPTION:Our office will be closed so our staff can spend the holiday with their families.
URL:https://catholiccem.com/our-event/christmas-office-closed/
LOCATION:Catholic Cemeteries Office\, 7710 West Center Road\, Omaha\, NE\, 68124\, United States
END:VEVENT
BEGIN:VEVENT
DTSTART;TZID=America/Chicago:20250101T080000
DTEND;TZID=America/Chicago:20250101T170000
DTSTAMP:20260425T104945
CREATED:20240124T221900Z
LAST-MODIFIED:20240124T221900Z
UID:3333-1735718400-1735750800@catholiccem.com
SUMMARY:New Years Day-Office closed
DESCRIPTION:Office is closed for New Years day so our staff can spend it with their families.
URL:https://catholiccem.com/our-event/new-years-day-office-closed/
LOCATION:Catholic Cemeteries Office\, 7710 West Center Road\, Omaha\, NE\, 68124\, United States
END:VEVENT
BEGIN:VEVENT
DTSTART;TZID=America/Chicago:20250107T170000
DTEND;TZID=America/Chicago:20250107T183000
DTSTAMP:20260425T104945
CREATED:20241204T163938Z
LAST-MODIFIED:20241204T163938Z
UID:3647-1736269200-1736274600@catholiccem.com
SUMMARY:Monthly Memorial Mass
DESCRIPTION:Join us as we remember those buried in December 2024 and January 2024. We pray a rosary starting at 5 pm\, following by reading the names of those being memorialized. Mass will begin at 5:30 pm.
URL:https://catholiccem.com/our-event/monthly-memorial-mass-78/
LOCATION:Holy Angels Mausoleum – Resurrection Cemetery\, 7800 W Center Rd\, Omaha\, NE\, 68124\, United States
END:VEVENT
BEGIN:VEVENT
DTSTART;TZID=America/Chicago:20250204T170000
DTEND;TZID=America/Chicago:20250204T183000
DTSTAMP:20260425T104945
CREATED:20241204T164121Z
LAST-MODIFIED:20241204T164121Z
UID:3648-1738688400-1738693800@catholiccem.com
SUMMARY:Monthly Memorial Mass
DESCRIPTION:Join us as we remember those buried in January 2025 and February 2024. We pray a rosary starting at 5 pm\, following by reading the names of those being memorialized. Mass will begin at 5:30 pm.
URL:https://catholiccem.com/our-event/monthly-memorial-mass-79/
LOCATION:Holy Angels Mausoleum – Resurrection Cemetery\, 7800 W Center Rd\, Omaha\, NE\, 68124\, United States
END:VEVENT
BEGIN:VEVENT
DTSTART;TZID=America/Chicago:20250304T170000
DTEND;TZID=America/Chicago:20250304T183000
DTSTAMP:20260425T104945
CREATED:20241204T164253Z
LAST-MODIFIED:20241204T164253Z
UID:3649-1741107600-1741113000@catholiccem.com
SUMMARY:Monthly Memorial Mass
DESCRIPTION:Join us as we remember those buried in February 2025 and March 2024. We pray a rosary starting at 5 pm\, following by reading the names of those being memorialized. Mass will begin at 5:30 pm.
URL:https://catholiccem.com/our-event/monthly-memorial-mass-80/
LOCATION:Holy Angels Mausoleum – Resurrection Cemetery\, 7800 W Center Rd\, Omaha\, NE\, 68124\, United States
END:VEVENT
BEGIN:VEVENT
DTSTART;TZID=America/Chicago:20250312T180000
DTEND;TZID=America/Chicago:20250312T190000
DTSTAMP:20260425T104945
CREATED:20250310T181810Z
LAST-MODIFIED:20250310T181810Z
UID:3709-1741802400-1741806000@catholiccem.com
SUMMARY:Stations of the Cross
DESCRIPTION:We invite you to come pray the Stations of the Cross with us this Wednesday at 6 pm in our Holy Angels Mausoleum at Resurrection Cemetery. We will pray for those who have gone before us\, and for Christ to heal us as we carry and place our grief at the foot of His cross. Praying the Stations allows us to become more intimately connected to Jesus’ Passion and Death\, and is a great way for us to prepare for the coming of Easter Sunday.
URL:https://catholiccem.com/our-event/stations-of-the-cross-30/
LOCATION:Holy Angels Mausoleum – Resurrection Cemetery\, 7800 W Center Rd\, Omaha\, NE\, 68124\, United States
ORGANIZER;CN="Deacon Jim Tardy":MAILTO:jtardy@catholiccem.com
END:VEVENT
BEGIN:VEVENT
DTSTART;TZID=America/Chicago:20250319T180000
DTEND;TZID=America/Chicago:20250319T190000
DTSTAMP:20260425T104945
CREATED:20250310T181928Z
LAST-MODIFIED:20250310T181928Z
UID:3710-1742407200-1742410800@catholiccem.com
SUMMARY:Stations of the Cross
DESCRIPTION:We invite you to come pray the Stations of the Cross with us this Wednesday at 6 pm in our Holy Angels Mausoleum at Resurrection Cemetery. We will pray for those who have gone before us\, and for Christ to heal us as we carry and place our grief at the foot of His cross. Praying the Stations allows us to become more intimately connected to Jesus’ Passion and Death\, and is a great way for us to prepare for the coming of Easter Sunday.
URL:https://catholiccem.com/our-event/stations-of-the-cross-31/
LOCATION:Holy Angels Mausoleum – Resurrection Cemetery\, 7800 W Center Rd\, Omaha\, NE\, 68124\, United States
ORGANIZER;CN="Deacon Jim Tardy":MAILTO:jtardy@catholiccem.com
END:VEVENT
BEGIN:VEVENT
DTSTART;TZID=America/Chicago:20250326T180000
DTEND;TZID=America/Chicago:20250326T190000
DTSTAMP:20260425T104945
CREATED:20250310T182025Z
LAST-MODIFIED:20250310T182025Z
UID:3711-1743012000-1743015600@catholiccem.com
SUMMARY:Stations of the Cross
DESCRIPTION:We invite you to come pray the Stations of the Cross with us this Wednesday at 6 pm in our Holy Angels Mausoleum at Resurrection Cemetery. We will pray for those who have gone before us\, and for Christ to heal us as we carry and place our grief at the foot of His cross. Praying the Stations allows us to become more intimately connected to Jesus’ Passion and Death\, and is a great way for us to prepare for the coming of Easter Sunday.
URL:https://catholiccem.com/our-event/stations-of-the-cross-32/
LOCATION:Holy Angels Mausoleum – Resurrection Cemetery\, 7800 W Center Rd\, Omaha\, NE\, 68124\, United States
ORGANIZER;CN="Deacon Jim Tardy":MAILTO:jtardy@catholiccem.com
END:VEVENT
BEGIN:VEVENT
DTSTART;TZID=America/Chicago:20250401T170000
DTEND;TZID=America/Chicago:20250401T183000
DTSTAMP:20260425T104945
CREATED:20241204T170121Z
LAST-MODIFIED:20241204T170121Z
UID:3650-1743526800-1743532200@catholiccem.com
SUMMARY:Monthly Memorial Mass
DESCRIPTION:Join us as we remember those buried in March 2025 and April 2024. We pray a rosary starting at 5 pm\, following by reading the names of those being memorialized. Mass will begin at 5:30 pm.
URL:https://catholiccem.com/our-event/monthly-memorial-mass-81/
LOCATION:Holy Angels Mausoleum – Resurrection Cemetery\, 7800 W Center Rd\, Omaha\, NE\, 68124\, United States
END:VEVENT
BEGIN:VEVENT
DTSTART;TZID=America/Chicago:20250402T180000
DTEND;TZID=America/Chicago:20250402T190000
DTSTAMP:20260425T104945
CREATED:20250310T182118Z
LAST-MODIFIED:20250310T182118Z
UID:3712-1743616800-1743620400@catholiccem.com
SUMMARY:Stations of the Cross
DESCRIPTION:We invite you to come pray the Stations of the Cross with us this Wednesday at 6 pm in our Holy Angels Mausoleum at Resurrection Cemetery. We will pray for those who have gone before us\, and for Christ to heal us as we carry and place our grief at the foot of His cross. Praying the Stations allows us to become more intimately connected to Jesus’ Passion and Death\, and is a great way for us to prepare for the coming of Easter Sunday.
URL:https://catholiccem.com/our-event/stations-of-the-cross-33/
LOCATION:Holy Angels Mausoleum – Resurrection Cemetery\, 7800 W Center Rd\, Omaha\, NE\, 68124\, United States
ORGANIZER;CN="Deacon Jim Tardy":MAILTO:jtardy@catholiccem.com
END:VEVENT
BEGIN:VEVENT
DTSTART;TZID=America/Chicago:20250409T180000
DTEND;TZID=America/Chicago:20250409T190000
DTSTAMP:20260425T104945
CREATED:20250310T182206Z
LAST-MODIFIED:20250310T182206Z
UID:3713-1744221600-1744225200@catholiccem.com
SUMMARY:Stations of the Cross
DESCRIPTION:We invite you to come pray the Stations of the Cross with us this Wednesday at 6 pm in our Holy Angels Mausoleum at Resurrection Cemetery. We will pray for those who have gone before us\, and for Christ to heal us as we carry and place our grief at the foot of His cross. Praying the Stations allows us to become more intimately connected to Jesus’ Passion and Death\, and is a great way for us to prepare for the coming of Easter Sunday.
URL:https://catholiccem.com/our-event/stations-of-the-cross-34/
LOCATION:Holy Angels Mausoleum – Resurrection Cemetery\, 7800 W Center Rd\, Omaha\, NE\, 68124\, United States
ORGANIZER;CN="Deacon Jim Tardy":MAILTO:jtardy@catholiccem.com
END:VEVENT
BEGIN:VEVENT
DTSTART;VALUE=DATE:20250418
DTEND;VALUE=DATE:20250419
DTSTAMP:20260425T104945
CREATED:20250310T182436Z
LAST-MODIFIED:20250310T182436Z
UID:3715-1744934400-1745020799@catholiccem.com
SUMMARY:Good Friday-Office Closed
DESCRIPTION:Our office will be closed on this very important day in our church\, Good Friday.
URL:https://catholiccem.com/our-event/good-friday-office-closed-2/
LOCATION:Catholic Cemeteries Office\, 7710 West Center Road\, Omaha\, NE\, 68124\, United States
END:VEVENT
END:VCALENDAR