BEGIN:VCALENDAR
VERSION:2.0
PRODID:-//Catholic Cemeteries Omaha - ECPv6.15.17.1//NONSGML v1.0//EN
CALSCALE:GREGORIAN
METHOD:PUBLISH
X-WR-CALNAME:Catholic Cemeteries Omaha
X-ORIGINAL-URL:https://catholiccem.com
X-WR-CALDESC:Events for Catholic Cemeteries Omaha
REFRESH-INTERVAL;VALUE=DURATION:PT1H
X-Robots-Tag:noindex
X-PUBLISHED-TTL:PT1H
BEGIN:VTIMEZONE
TZID:UTC
BEGIN:STANDARD
TZOFFSETFROM:+0000
TZOFFSETTO:+0000
TZNAME:UTC
DTSTART:20190101T000000
END:STANDARD
END:VTIMEZONE
BEGIN:VEVENT
DTSTART;TZID=UTC:20201102T170000
DTEND;TZID=UTC:20201102T183000
DTSTAMP:20260420T033709
CREATED:20191216T213748Z
LAST-MODIFIED:20191216T214015Z
UID:2496-1604336400-1604341800@catholiccem.com
SUMMARY:Monthly Memorial Mass
DESCRIPTION:Join us as we remember those buried in October 2020 and November 2019. \nRosary starts at 5:00\, followed by the reading of the names\, then mass will begin at 5:30.
URL:https://catholiccem.com/our-event/monthly-memorial-mass-28/
LOCATION:Holy Angels Mausoleum – Resurrection Cemetery\, 7800 W Center Rd\, Omaha\, NE\, 68124\, United States
END:VEVENT
BEGIN:VEVENT
DTSTART;VALUE=DATE:20201126
DTEND;VALUE=DATE:20201127
DTSTAMP:20260420T033709
CREATED:20201106T025310Z
LAST-MODIFIED:20201106T025310Z
UID:2623-1606348800-1606435199@catholiccem.com
SUMMARY:Office closed
DESCRIPTION:The office is closed for Thanksgiving.
URL:https://catholiccem.com/our-event/office-closed/
LOCATION:Catholic Cemeteries Office\, 7710 West Center Road\, Omaha\, NE\, 68124\, United States
END:VEVENT
END:VCALENDAR