BEGIN:VCALENDAR
VERSION:2.0
PRODID:-//Catholic Cemeteries Omaha - ECPv6.15.17.1//NONSGML v1.0//EN
CALSCALE:GREGORIAN
METHOD:PUBLISH
X-WR-CALNAME:Catholic Cemeteries Omaha
X-ORIGINAL-URL:https://catholiccem.com
X-WR-CALDESC:Events for Catholic Cemeteries Omaha
REFRESH-INTERVAL;VALUE=DURATION:PT1H
X-Robots-Tag:noindex
X-PUBLISHED-TTL:PT1H
BEGIN:VTIMEZONE
TZID:UTC
BEGIN:STANDARD
TZOFFSETFROM:+0000
TZOFFSETTO:+0000
TZNAME:UTC
DTSTART:20190101T000000
END:STANDARD
END:VTIMEZONE
BEGIN:VEVENT
DTSTART;TZID=UTC:20201202T180000
DTEND;TZID=UTC:20201202T190000
DTSTAMP:20260420T033703
CREATED:20201106T024913Z
LAST-MODIFIED:20201110T205308Z
UID:2620-1606932000-1606935600@catholiccem.com
SUMMARY:Advent Prayer Service
DESCRIPTION:The Advent Season connects memory and hope. This Holy Season awakens in us the most profound memory of God who so loved the world that he sent his only Son to redeem His Father’s creation. This is a time of healing and hope. It is the Church’s sincere desire to continually remind and rehearse this great history of memory for each of us. Even in the despair of having lost a loved one\, it is of holiness that we take on the task of Advent to remember and to waken in all of us the memories of God’s goodness and thus being to live in hope. \nThe Catholic Cemeteries of the Archdiocese of Omaha invite those who have lost loved ones to join us each Wednesday\, December 2nd\, 9th\, and 16th at 65:00 PM in Holy Angels Mausoleum at Resurrection Cemetery. We will pray for your peace and healing as we await the come of the Christ Child. Come and leave your petitions at the Christmas Remembrance Tree. They will be offered in prayer during all of Advent and presented silently during the January 2021 Memorial Mass.
URL:https://catholiccem.com/our-event/advent-prayer-service-8/
LOCATION:Holy Angels Mausoleum – Resurrection Cemetery\, 7800 W Center Rd\, Omaha\, NE\, 68124\, United States
ORGANIZER;CN="Deacon Jim Tardy":MAILTO:jtardy@catholiccem.com
END:VEVENT
BEGIN:VEVENT
DTSTART;TZID=UTC:20201207T170000
DTEND;TZID=UTC:20201207T183000
DTSTAMP:20260420T033703
CREATED:20191216T213852Z
LAST-MODIFIED:20191216T213940Z
UID:2497-1607360400-1607365800@catholiccem.com
SUMMARY:Monthly Memorial Mass
DESCRIPTION:Join us as we remember those buried in November 2020 and December 2019. \nRosary starts at 5:00\, followed by the reading of the names\, then mass will begin at 5:30.
URL:https://catholiccem.com/our-event/monthly-memorial-mass-29/
LOCATION:Holy Angels Mausoleum – Resurrection Cemetery\, 7800 W Center Rd\, Omaha\, NE\, 68124\, United States
END:VEVENT
BEGIN:VEVENT
DTSTART;TZID=UTC:20201209T180000
DTEND;TZID=UTC:20201209T190000
DTSTAMP:20260420T033703
CREATED:20201106T024957Z
LAST-MODIFIED:20201110T205246Z
UID:2621-1607536800-1607540400@catholiccem.com
SUMMARY:Advent Prayer Service
DESCRIPTION:The Advent Season connects memory and hope. This Holy Season awakens in us the most profound memory of God who so loved the world that he sent his only Son to redeem His Father’s creation. This is a time of healing and hope. It is the Church’s sincere desire to continually remind and rehearse this great history of memory for each of us. Even in the despair of having lost a loved one\, it is of holiness that we take on the task of Advent to remember and to waken in all of us the memories of God’s goodness and thus being to live in hope. \nThe Catholic Cemeteries of the Archdiocese of Omaha invite those who have lost loved ones to join us each Wednesday\, December 2nd\, 9th\, and 16th at 65:00 PM in Holy Angels Mausoleum at Resurrection Cemetery. We will pray for your peace and healing as we await the come of the Christ Child. Come and leave your petitions at the Christmas Remembrance Tree. They will be offered in prayer during all of Advent and presented silently during the January 2021 Memorial Mass.
URL:https://catholiccem.com/our-event/advent-prayer-service-9/
LOCATION:Holy Angels Mausoleum – Resurrection Cemetery\, 7800 W Center Rd\, Omaha\, NE\, 68124\, United States
ORGANIZER;CN="Deacon Jim Tardy":MAILTO:jtardy@catholiccem.com
END:VEVENT
BEGIN:VEVENT
DTSTART;TZID=UTC:20201216T180000
DTEND;TZID=UTC:20201216T190000
DTSTAMP:20260420T033703
CREATED:20201106T025102Z
LAST-MODIFIED:20201110T205211Z
UID:2622-1608141600-1608145200@catholiccem.com
SUMMARY:Advent Prayer Service
DESCRIPTION:The Advent Season connects memory and hope. This Holy Season awakens in us the most profound memory of God who so loved the world that he sent his only Son to redeem His Father’s creation. This is a time of healing and hope. It is the Church’s sincere desire to continually remind and rehearse this great history of memory for each of us. Even in the despair of having lost a loved one\, it is of holiness that we take on the task of Advent to remember and to waken in all of us the memories of God’s goodness and thus being to live in hope. \nThe Catholic Cemeteries of the Archdiocese of Omaha invite those who have lost loved ones to join us each Wednesday\, December 2nd\, 9th\, and 16th at 65:00 PM in Holy Angels Mausoleum at Resurrection Cemetery. We will pray for your peace and healing as we await the come of the Christ Child. Come and leave your petitions at the Christmas Remembrance Tree. They will be offered in prayer during all of Advent and presented silently during the January 2021 Memorial Mass.
URL:https://catholiccem.com/our-event/advent-prayer-service-10/
LOCATION:Holy Angels Mausoleum – Resurrection Cemetery\, 7800 W Center Rd\, Omaha\, NE\, 68124\, United States
ORGANIZER;CN="Deacon Jim Tardy":MAILTO:jtardy@catholiccem.com
END:VEVENT
BEGIN:VEVENT
DTSTART;VALUE=DATE:20201225
DTEND;VALUE=DATE:20201226
DTSTAMP:20260420T033703
CREATED:20201106T025428Z
LAST-MODIFIED:20201106T025428Z
UID:2624-1608854400-1608940799@catholiccem.com
SUMMARY:Office closed
DESCRIPTION:Office is closed for Christmas Day.
URL:https://catholiccem.com/our-event/office-closed-2/
LOCATION:Catholic Cemeteries Office\, 7710 West Center Road\, Omaha\, NE\, 68124\, United States
END:VEVENT
END:VCALENDAR